Workbook

Sheet Roster
A1: Weekly cleaning roster
A3: Week commencing (Monday) | B3: 46307
B4: =$B$3+0 | C4: =$B$3+1 | D4: =$B$3+2 | E4: =$B$3+3 | F4: =$B$3+4 | G4: =$B$3+5 | H4: =$B$3+6
A5: Team member | B5: Mon | C5: Tue | D5: Wed | E5: Thu | F5: Fri | G5: Sat | H5: Sun | I5: Rostered hours
I6: =SUMPRODUCT((Timesheet!$B$6:$B$300=A6)*(Timesheet!$C$6:$C$300>=$B$3)*(Timesheet!$C$6:$C$300<$B$3+7)*Timesheet!$H$6:$H$300)
I7: =SUMPRODUCT((Timesheet!$B$6:$B$300=A7)*(Timesheet!$C$6:$C$300>=$B$3)*(Timesheet!$C$6:$C$300<$B$3+7)*Timesheet!$H$6:$H$300)
I8: =SUMPRODUCT((Timesheet!$B$6:$B$300=A8)*(Timesheet!$C$6:$C$300>=$B$3)*(Timesheet!$C$6:$C$300<$B$3+7)*Timesheet!$H$6:$H$300)
I9: =SUMPRODUCT((Timesheet!$B$6:$B$300=A9)*(Timesheet!$C$6:$C$300>=$B$3)*(Timesheet!$C$6:$C$300<$B$3+7)*Timesheet!$H$6:$H$300)
I10: =SUMPRODUCT((Timesheet!$B$6:$B$300=A10)*(Timesheet!$C$6:$C$300>=$B$3)*(Timesheet!$C$6:$C$300<$B$3+7)*Timesheet!$H$6:$H$300)
I11: =SUMPRODUCT((Timesheet!$B$6:$B$300=A11)*(Timesheet!$C$6:$C$300>=$B$3)*(Timesheet!$C$6:$C$300<$B$3+7)*Timesheet!$H$6:$H$300)
I12: =SUMPRODUCT((Timesheet!$B$6:$B$300=A12)*(Timesheet!$C$6:$C$300>=$B$3)*(Timesheet!$C$6:$C$300<$B$3+7)*Timesheet!$H$6:$H$300)
I13: =SUMPRODUCT((Timesheet!$B$6:$B$300=A13)*(Timesheet!$C$6:$C$300>=$B$3)*(Timesheet!$C$6:$C$300<$B$3+7)*Timesheet!$H$6:$H$300)
I14: =SUMPRODUCT((Timesheet!$B$6:$B$300=A14)*(Timesheet!$C$6:$C$300>=$B$3)*(Timesheet!$C$6:$C$300<$B$3+7)*Timesheet!$H$6:$H$300)
I15: =SUMPRODUCT((Timesheet!$B$6:$B$300=A15)*(Timesheet!$C$6:$C$300>=$B$3)*(Timesheet!$C$6:$C$300<$B$3+7)*Timesheet!$H$6:$H$300)
A17: In each cell write site code, start and finish, e.g. K12 8.00-10.30. Hours column shows actual hours from the Timesheet sheet for this week once entered.

Sheet Timesheet
A1: Timesheet (wages and time record)
A3: Hourly rate reference (minimum wage $23.95 from 1 April 2026; check for the current rate each April)
A5: Row | B5: Team member | C5: Date | D5: Site | E5: Start | F5: Finish | G5: Unpaid break (min) | H5: Paid hours | I5: Overtime flag (>8h) | J5: Notes
A6: 1 | H6: =IF(OR(E6="",F6=""),"",ROUND((F6-E6)*24-G6/60,2)) | I6: =IF(H6="","",IF(H6>8,"Yes",""))
A7: 2 | H7: =IF(OR(E7="",F7=""),"",ROUND((F7-E7)*24-G7/60,2)) | I7: =IF(H7="","",IF(H7>8,"Yes",""))
A8: 3 | H8: =IF(OR(E8="",F8=""),"",ROUND((F8-E8)*24-G8/60,2)) | I8: =IF(H8="","",IF(H8>8,"Yes",""))
A9: 4 | H9: =IF(OR(E9="",F9=""),"",ROUND((F9-E9)*24-G9/60,2)) | I9: =IF(H9="","",IF(H9>8,"Yes",""))
A10: 5 | H10: =IF(OR(E10="",F10=""),"",ROUND((F10-E10)*24-G10/60,2)) | I10: =IF(H10="","",IF(H10>8,"Yes",""))
A11: 6 | H11: =IF(OR(E11="",F11=""),"",ROUND((F11-E11)*24-G11/60,2)) | I11: =IF(H11="","",IF(H11>8,"Yes",""))
A12: 7 | H12: =IF(OR(E12="",F12=""),"",ROUND((F12-E12)*24-G12/60,2)) | I12: =IF(H12="","",IF(H12>8,"Yes",""))
A13: 8 | H13: =IF(OR(E13="",F13=""),"",ROUND((F13-E13)*24-G13/60,2)) | I13: =IF(H13="","",IF(H13>8,"Yes",""))
A14: 9 | H14: =IF(OR(E14="",F14=""),"",ROUND((F14-E14)*24-G14/60,2)) | I14: =IF(H14="","",IF(H14>8,"Yes",""))
A15: 10 | H15: =IF(OR(E15="",F15=""),"",ROUND((F15-E15)*24-G15/60,2)) | I15: =IF(H15="","",IF(H15>8,"Yes",""))
A16: 11 | H16: =IF(OR(E16="",F16=""),"",ROUND((F16-E16)*24-G16/60,2)) | I16: =IF(H16="","",IF(H16>8,"Yes",""))
A17: 12 | H17: =IF(OR(E17="",F17=""),"",ROUND((F17-E17)*24-G17/60,2)) | I17: =IF(H17="","",IF(H17>8,"Yes",""))
... A300: 295 | H300: =IF(OR(E300="",F300=""),"",ROUND((F300-E300)*24-G300/60,2)) | I300: =IF(H300="","",IF(H300>8,"Yes",""))

Sheet Weekly totals
A1: Team member | B1: Week commencing | C1: Paid hours | D1: Days worked | E1: Rest breaks due (10 min paid) | F1: Meal breaks due (30 min)
C2: =IF(A2="","",SUMPRODUCT((Timesheet!$B$6:$B$300=A2)*(Timesheet!$C$6:$C$300>=B2)*(Timesheet!$C$6:$C$300<B2+7)*Timesheet!$H$6:$H$300)) | D2: =IF(A2="","",SUMPRODUCT((Timesheet!$B$6:$B$300=A2)*(Timesheet!$C$6:$C$300>=B2)*(Timesheet!$C$6:$C$300<B2+7)*(Timesheet!$H$6:$H$300>0)))
C3: =IF(A3="","",SUMPRODUCT((Timesheet!$B$6:$B$300=A3)*(Timesheet!$C$6:$C$300>=B3)*(Timesheet!$C$6:$C$300<B3+7)*Timesheet!$H$6:$H$300)) | D3: =IF(A3="","",SUMPRODUCT((Timesheet!$B$6:$B$300=A3)*(Timesheet!$C$6:$C$300>=B3)*(Timesheet!$C$6:$C$300<B3+7)*(Timesheet!$H$6:$H$300>0)))
C4: =IF(A4="","",SUMPRODUCT((Timesheet!$B$6:$B$300=A4)*(Timesheet!$C$6:$C$300>=B4)*(Timesheet!$C$6:$C$300<B4+7)*Timesheet!$H$6:$H$300)) | D4: =IF(A4="","",SUMPRODUCT((Timesheet!$B$6:$B$300=A4)*(Timesheet!$C$6:$C$300>=B4)*(Timesheet!$C$6:$C$300<B4+7)*(Timesheet!$H$6:$H$300>0)))
C5: =IF(A5="","",SUMPRODUCT((Timesheet!$B$6:$B$300=A5)*(Timesheet!$C$6:$C$300>=B5)*(Timesheet!$C$6:$C$300<B5+7)*Timesheet!$H$6:$H$300)) | D5: =IF(A5="","",SUMPRODUCT((Timesheet!$B$6:$B$300=A5)*(Timesheet!$C$6:$C$300>=B5)*(Timesheet!$C$6:$C$300<B5+7)*(Timesheet!$H$6:$H$300>0)))
C6: =IF(A6="","",SUMPRODUCT((Timesheet!$B$6:$B$300=A6)*(Timesheet!$C$6:$C$300>=B6)*(Timesheet!$C$6:$C$300<B6+7)*Timesheet!$H$6:$H$300)) | D6: =IF(A6="","",SUMPRODUCT((Timesheet!$B$6:$B$300=A6)*(Timesheet!$C$6:$C$300>=B6)*(Timesheet!$C$6:$C$300<B6+7)*(Timesheet!$H$6:$H$300>0)))
C7: =IF(A7="","",SUMPRODUCT((Timesheet!$B$6:$B$300=A7)*(Timesheet!$C$6:$C$300>=B7)*(Timesheet!$C$6:$C$300<B7+7)*Timesheet!$H$6:$H$300)) | D7: =IF(A7="","",SUMPRODUCT((Timesheet!$B$6:$B$300=A7)*(Timesheet!$C$6:$C$300>=B7)*(Timesheet!$C$6:$C$300<B7+7)*(Timesheet!$H$6:$H$300>0)))
C8: =IF(A8="","",SUMPRODUCT((Timesheet!$B$6:$B$300=A8)*(Timesheet!$C$6:$C$300>=B8)*(Timesheet!$C$6:$C$300<B8+7)*Timesheet!$H$6:$H$300)) | D8: =IF(A8="","",SUMPRODUCT((Timesheet!$B$6:$B$300=A8)*(Timesheet!$C$6:$C$300>=B8)*(Timesheet!$C$6:$C$300<B8+7)*(Timesheet!$H$6:$H$300>0)))
C9: =IF(A9="","",SUMPRODUCT((Timesheet!$B$6:$B$300=A9)*(Timesheet!$C$6:$C$300>=B9)*(Timesheet!$C$6:$C$300<B9+7)*Timesheet!$H$6:$H$300)) | D9: =IF(A9="","",SUMPRODUCT((Timesheet!$B$6:$B$300=A9)*(Timesheet!$C$6:$C$300>=B9)*(Timesheet!$C$6:$C$300<B9+7)*(Timesheet!$H$6:$H$300>0)))
C10: =IF(A10="","",SUMPRODUCT((Timesheet!$B$6:$B$300=A10)*(Timesheet!$C$6:$C$300>=B10)*(Timesheet!$C$6:$C$300<B10+7)*Timesheet!$H$6:$H$300)) | D10: =IF(A10="","",SUMPRODUCT((Timesheet!$B$6:$B$300=A10)*(Timesheet!$C$6:$C$300>=B10)*(Timesheet!$C$6:$C$300<B10+7)*(Timesheet!$H$6:$H$300>0)))
C11: =IF(A11="","",SUMPRODUCT((Timesheet!$B$6:$B$300=A11)*(Timesheet!$C$6:$C$300>=B11)*(Timesheet!$C$6:$C$300<B11+7)*Timesheet!$H$6:$H$300)) | D11: =IF(A11="","",SUMPRODUCT((Timesheet!$B$6:$B$300=A11)*(Timesheet!$C$6:$C$300>=B11)*(Timesheet!$C$6:$C$300<B11+7)*(Timesheet!$H$6:$H$300>0)))
C12: =IF(A12="","",SUMPRODUCT((Timesheet!$B$6:$B$300=A12)*(Timesheet!$C$6:$C$300>=B12)*(Timesheet!$C$6:$C$300<B12+7)*Timesheet!$H$6:$H$300)) | D12: =IF(A12="","",SUMPRODUCT((Timesheet!$B$6:$B$300=A12)*(Timesheet!$C$6:$C$300>=B12)*(Timesheet!$C$6:$C$300<B12+7)*(Timesheet!$H$6:$H$300>0)))
C13: =IF(A13="","",SUMPRODUCT((Timesheet!$B$6:$B$300=A13)*(Timesheet!$C$6:$C$300>=B13)*(Timesheet!$C$6:$C$300<B13+7)*Timesheet!$H$6:$H$300)) | D13: =IF(A13="","",SUMPRODUCT((Timesheet!$B$6:$B$300=A13)*(Timesheet!$C$6:$C$300>=B13)*(Timesheet!$C$6:$C$300<B13+7)*(Timesheet!$H$6:$H$300>0)))
... C21: =IF(A21="","",SUMPRODUCT((Timesheet!$B$6:$B$300=A21)*(Timesheet!$C$6:$C$300>=B21)*(Timesheet!$C$6:$C$300<B21+7)*Timesheet!$H$6:$H$300)) | D21: =IF(A21="","",SUMPRODUCT((Timesheet!$B$6:$B$300=A21)*(Timesheet!$C$6:$C$300>=B21)*(Timesheet!$C$6:$C$300<B21+7)*(Timesheet!$H$6:$H$300>0)))
A23: Breaks per shift (Employment Relations Act 2000, Part 6D): 2 to 4 hours one 10-min paid rest break; 4 to 6 hours one rest break and one 30-min meal break; 6 to 8 hours two rest breaks and one meal break. Fill the last two columns from the roster.

Sheet How to use
A1: How to use this workbook
A2: 1. Roster: set the Monday date once; day headers follow. Type site code and times in each cell. Send it Friday for the following week; changes after that go through one named person.
A3: 2. Timesheet: one row per site visit per person per day. Paid hours calculate from start, finish and unpaid break. Shifts over 8 hours flag amber so overtime or an extra break is not missed.
A4: 3. Weekly totals: list each person and the week; hours and days pull from the timesheet. Use it to run payroll and to check breaks were rostered.
A5: 4. Keep every week's file for 6 years: it is the wages and time record under s 130 of the Employment Relations Act 2000 and feeds the holiday and leave record under s 81 of the Holidays Act 2003. Checked on employment.govt.nz 9 October 2026.
A6: 5. Employees must be paid at least the minimum wage ($23.95 an hour from 1 April 2026) for every hour worked, including travel between sites during a shift.
A8: Free to use and adapt for your own business. ClearLogic Intelligence, clearlogicintelligence.com/resources/
